BEGIN:VCALENDAR
VERSION:2.0
PRODID:-//wp-events-plugin.com//7.2.3.1//EN
TZID:Europe/Paris
X-WR-TIMEZONE:Europe/Paris
BEGIN:VEVENT
UID:47@fatal-festival.fr
DTSTART;TZID=Europe/Paris:20240519T150000
DTEND;TZID=Europe/Paris:20240519T161500
DTSTAMP:20240403T210019Z
URL:https://fatal-festival.fr/events/trait-duniontrait-dunion-theatre-de-l
 a-roulotte/
SUMMARY:"Trait d'union" - Théâtre de la roulotte
DESCRIPTION:Un jeune poète rencontre deux écrivains de renom\, grâce à 
 leur jolie et bienveillante secrétaire. Chacun a le désir de faire quelq
 ue chose pour lui. Mais doit-on faire confiance à ceux qui veulent faire 
 votre bonheur ?\nTraits d'Union est une comédie sur l'Ego\, ses méandres
 \, ses ruptures\, ses nécessités.\n\n\n&nbsp\;\n\nMetteur en scène :  
 Aline Still - Auteur : Murielle Magellan\n\n&nbsp\;\n\nDistribution : Mary
 line Rigaudeau \; Josette Chapelain \; Tony Gallais \; Alain Le Gall\n\n&n
 bsp\;\n\nDurée du spectacle : 1h15\n\n&nbsp\;
ATTACH;FMTTYPE=image/jpeg:https://fatal-festival.fr/wp-content/uploads/202
 4/03/Traits-Union-Affiche.jpg
CATEGORIES:comédie dramatique,En Salle,Tout Public
LOCATION:Théâtre du Champ de Bataille\, 10 rue du Champ de Bataille\, ANG
 ERS\, France
X-APPLE-STRUCTURED-LOCATION;VALUE=URI;X-ADDRESS=10 rue du Champ de Bataille
 \, ANGERS\, France;X-APPLE-RADIUS=100;X-TITLE=Théâtre du Champ de Batail
 le:geo:0,0
END:VEVENT
BEGIN:VTIMEZONE
TZID:Europe/Paris
X-LIC-LOCATION:Europe/Paris
BEGIN:DAYLIGHT
DTSTART:20240331T030000
TZOFFSETFROM:+0100
TZOFFSETTO:+0200
TZNAME:CEST
END:DAYLIGHT
END:VTIMEZONE
END:VCALENDAR