BEGIN:VCALENDAR
VERSION:2.0
PRODID:-//wp-events-plugin.com//7.2.3.1//EN
TZID:Europe/Paris
X-WR-TIMEZONE:Europe/Paris
BEGIN:VEVENT
UID:50@fatal-festival.fr
DTSTART;TZID=Europe/Paris:20240519T191500
DTEND;TZID=Europe/Paris:20240519T203500
DTSTAMP:20240403T205340Z
URL:https://fatal-festival.fr/events/musee-haut-musee-bas-sepafo/
SUMMARY:"Musée haut -Musée Bas" - Sepafo
DESCRIPTION:"Regarder le monde à l'envers pour voir combien il est absurde
  à l'endroit." Entrez dans notre musée où se mêlent l'art et la vie da
 ns un ballet émouvant et surréaliste. Une pièce absurde portée par 5 c
 omédien(ne)s et leur grain de folie... Suivez le guide.\n\n&nbsp\;\n\nMet
 teur en scène :  Philippe Chauveau - Auteur : Jean -Michel Ribes\n\n&nbs
 p\;\n\nDistribution : Rachel Dauvergne \; Adeline Didierjean \; delphine H
 ubert \; Thieery Maucotel \; Roland Thomas\n\n&nbsp\;\n\nDurée du spectac
 le : 1h20
ATTACH;FMTTYPE=image/jpeg:https://fatal-festival.fr/wp-content/uploads/202
 4/03/recto-final.jpg
CATEGORIES:Comédie,En Salle,Tout Public
LOCATION:Théâtre du Champ de Bataille\, 10 rue du Champ de Bataille\, ANG
 ERS\, France
X-APPLE-STRUCTURED-LOCATION;VALUE=URI;X-ADDRESS=10 rue du Champ de Bataille
 \, ANGERS\, France;X-APPLE-RADIUS=100;X-TITLE=Théâtre du Champ de Batail
 le:geo:0,0
END:VEVENT
BEGIN:VTIMEZONE
TZID:Europe/Paris
X-LIC-LOCATION:Europe/Paris
BEGIN:DAYLIGHT
DTSTART:20240331T030000
TZOFFSETFROM:+0100
TZOFFSETTO:+0200
TZNAME:CEST
END:DAYLIGHT
END:VTIMEZONE
END:VCALENDAR