BEGIN:VCALENDAR
VERSION:2.0
PRODID:-//wp-events-plugin.com//7.2.3.1//EN
TZID:Europe/Paris
X-WR-TIMEZONE:Europe/Paris
BEGIN:VEVENT
UID:34@fatal-festival.fr
DTSTART;TZID=Europe/Paris:20240517T190000
DTEND;TZID=Europe/Paris:20240517T203000
DTSTAMP:20240501T180942Z
URL:https://fatal-festival.fr/events/le-duel-bottom-compagny/
SUMMARY:"Le Duel" - Bottom Company
DESCRIPTION:A l’aube du XXè siècle\, dans une ville reculée du Caucase
 \, Ivan Laïevski\, homme cynique et débauché vient se confier à son am
 i\, le docteur Saïmdenko : après avoir séduit une femme mariée\, Nadej
 da\, il s’est lassé de cet amour et\, accablé de dettes\, veut fuir à
  St Pétersbourg pour recommencer sa vie. Le jeune couple est d’ailleurs
  jugé infréquentable par la bonne société. Le scientifique Von Koren e
 n particulier\, ayant foi en la sélection naturelle\, considère Laïesvs
 ki comme le type même d’individu à éliminer pour le progrès de l’e
 spèce humaine.\nLe duel entre Laïesvki\, noble aux idées légères\, et
  Von Koren\, scientifique formé à l’école allemande\, rigoureux jusqu
 ’à l’intolérance aura-t-il lieu ?\nUn Tchekhov où aucune vérité n
 e triomphe\, et qui\, une fois n’est pas coutume : la vie finit par chan
 ger les êtres et faire évoluer les certitudes.\n\n&nbsp\;\n\nMetteur en 
 scène : Szandra Guary - Auteur :Anton Tchekhov\n\n&nbsp\;\n\nDistribution
  : Catherine Bruezière \; Eric Chambrelan \; Yves-Marie Herrou \; Bertran
 d Lebreton \; Pierre Menager \; Maryline Rigaudeau \; Alexandre Stoffel\n\
 n&nbsp\;\n\nDurée du spectacle : 1h30\n\n&nbsp\;\n\nDécouvrez le Teaser 
 !\n\n&nbsp\;
ATTACH;FMTTYPE=image/jpeg:https://fatal-festival.fr/wp-content/uploads/202
 4/03/f71cb8a8-789d-4654-b7a3-5868cae3ba83.jpg
CATEGORIES:12ans et +,En Salle,tragi-comédie
LOCATION:Théâtre du Champ de Bataille\, 10 rue du Champ de Bataille\, ANG
 ERS\, France
X-APPLE-STRUCTURED-LOCATION;VALUE=URI;X-ADDRESS=10 rue du Champ de Bataille
 \, ANGERS\, France;X-APPLE-RADIUS=100;X-TITLE=Théâtre du Champ de Batail
 le:geo:0,0
END:VEVENT
BEGIN:VTIMEZONE
TZID:Europe/Paris
X-LIC-LOCATION:Europe/Paris
BEGIN:DAYLIGHT
DTSTART:20240331T030000
TZOFFSETFROM:+0100
TZOFFSETTO:+0200
TZNAME:CEST
END:DAYLIGHT
END:VTIMEZONE
END:VCALENDAR