BEGIN:VCALENDAR
VERSION:2.0
PRODID:-//wp-events-plugin.com//7.2.3.1//EN
TZID:Europe/Paris
X-WR-TIMEZONE:Europe/Paris
BEGIN:VEVENT
UID:36@fatal-festival.fr
DTSTART;TZID=Europe/Paris:20240517T210000
DTEND;TZID=Europe/Paris:20240517T223000
DTSTAMP:20240401T123817Z
URL:https://fatal-festival.fr/events/dis-a-ma-fille-que-je-pars-en-voyage-
 les-pas-mytho-2/
SUMMARY:"Dis à ma fille que je pars en voyage" - Les pas mytho
DESCRIPTION:Lorsque que Caroline arrive en prison\, Dominique y a déjà pa
 ssé sept ans.\nTout sépare ces deux femmes. Caroline a de l'éducation e
 t de l'instruction. Dominique a les manières\nrudes d'une mère de famill
 e dont la vie n'a pas été toujours facile.\nDans le confinement de la ce
 llule\, une amitié profonde voit le jour. Leur humour respectif suffira 
 à ces\ndeux femmes pour survivre et supporter au quotidien le milieu carc
 éral.\nUn spectacle subtilement rythmé entre émotions et éclats de rir
 e.\n\n&nbsp\;\n\nMetteur en scène :  Jean-Philippe Perdriau - Auteur :De
 nise Chalem\n\n&nbsp\;\n\nDistribution : Marie Rousseau \; Marie Charrier 
 \; Thérèse Hauchard\n\n&nbsp\;\n\nDurée du spectacle : 1h30\n\n&nbsp\;
CATEGORIES:comédie dramatique,En Salle,Tout Public
LOCATION:Théâtre du Champ de Bataille\, 10 rue du Champ de Bataille\, ANG
 ERS\, France
X-APPLE-STRUCTURED-LOCATION;VALUE=URI;X-ADDRESS=10 rue du Champ de Bataille
 \, ANGERS\, France;X-APPLE-RADIUS=100;X-TITLE=Théâtre du Champ de Batail
 le:geo:0,0
END:VEVENT
BEGIN:VTIMEZONE
TZID:Europe/Paris
X-LIC-LOCATION:Europe/Paris
BEGIN:DAYLIGHT
DTSTART:20240331T030000
TZOFFSETFROM:+0100
TZOFFSETTO:+0200
TZNAME:CEST
END:DAYLIGHT
END:VTIMEZONE
END:VCALENDAR